BEGIN:VCALENDAR
VERSION:2.0
PRODID:icalendar-ruby
CALSCALE:GREGORIAN
METHOD:PUBLISH
BEGIN:VEVENT
DTSTAMP:20260424T161915Z
UID:10-269351@crystallakecommumc.org
DTSTART:20261013T130000Z
DTEND:20261013T150000Z
CLASS:PUBLIC
CREATED:20260424T113918
DESCRIPTION:Each Tuesday the food pantry will be open for food distribution
 .  Clients can enter the building at 9 to wait until their name is called
  from the sign-in list.\nThere will be non-perishable food available as we
 ll as toilet paper\, cleaning and personal hygiene supplies\, day-old bake
 d goods from the Tolland Big Y and occasionally fresh fruit or vegetable f
 rom local farmers.\nTo contact us\, you can reach Kim at 860-306-9669 or W
 illis74Kim@gmail.com.
LAST-MODIFIED:20260424T113918
LOCATION:
SUMMARY:Food Pantry Distribution Day
URL;VALUE=URI:https://crystallakecommumc.org/events/food-pantry-distributio
 n-day/2026-10-13
END:VEVENT
END:VCALENDAR
