BEGIN:VCALENDAR
VERSION:2.0
PRODID:icalendar-ruby
CALSCALE:GREGORIAN
METHOD:PUBLISH
BEGIN:VEVENT
DTSTAMP:20260424T154457Z
UID:36-269492@crystallakecommumc.org
DTSTART:20261103T230000Z
DTEND:20261104T000000Z
CLASS:PUBLIC
CREATED:20260424T113918
DESCRIPTION:Monique and Joyce will host a fun night of chair volleyball whi
 ch is accessible to all.
LAST-MODIFIED:20260424T113918
LOCATION:Community United Methodist Church @ Crystal Lake
SUMMARY:Chair Volleyball
URL;VALUE=URI:https://crystallakecommumc.org/events/chair-volleyball/2026-1
 1-03
END:VEVENT
END:VCALENDAR
