BEGIN:VCALENDAR
VERSION:2.0
PRODID:icalendar-ruby
CALSCALE:GREGORIAN
METHOD:PUBLISH
BEGIN:VEVENT
DTSTAMP:20260424T105933Z
UID:36-269109@crystallakecommumc.org
DTSTART:20261013T220000Z
DTEND:20261013T230000Z
CLASS:PUBLIC
CREATED:20260423T231836
DESCRIPTION:Monique and Joyce will host a fun night of chair volleyball whi
 ch is accessible to all.
LAST-MODIFIED:20260423T231836
LOCATION:Community United Methodist Church @ Crystal Lake
SUMMARY:Chair Volleyball
URL;VALUE=URI:https://crystallakecommumc.org/events/chair-volleyball/2026-1
 0-13
END:VEVENT
END:VCALENDAR
