BEGIN:VCALENDAR
VERSION:2.0
PRODID:icalendar-ruby
CALSCALE:GREGORIAN
METHOD:PUBLISH
BEGIN:VEVENT
DTSTAMP:20260422T051058Z
UID:36-266826@crystallakecommumc.org
DTSTART:20260922T220000Z
DTEND:20260922T230000Z
CLASS:PUBLIC
CREATED:20260421T213703
DESCRIPTION:Monique and Joyce will host a fun night of chair volleyball whi
 ch is accessible to all.
LAST-MODIFIED:20260421T213703
LOCATION:Community United Methodist Church @ Crystal Lake
SUMMARY:Chair Volleyball
URL;VALUE=URI:https://crystallakecommumc.org/events/chair-volleyball/2026-0
 9-22
END:VEVENT
END:VCALENDAR
